BEGIN:VCALENDAR
VERSION:2.0
PRODID:-//Hatopia - ECPv6.15.16//NONSGML v1.0//EN
CALSCALE:GREGORIAN
METHOD:PUBLISH
X-ORIGINAL-URL:https://hatopia.de
X-WR-CALDESC:Veranstaltungen für Hatopia
REFRESH-INTERVAL;VALUE=DURATION:PT1H
X-Robots-Tag:noindex
X-PUBLISHED-TTL:PT1H
BEGIN:VTIMEZONE
TZID:Europe/Berlin
BEGIN:DAYLIGHT
TZOFFSETFROM:+0100
TZOFFSETTO:+0200
TZNAME:CEST
DTSTART:20250330T010000
END:DAYLIGHT
BEGIN:STANDARD
TZOFFSETFROM:+0200
TZOFFSETTO:+0100
TZNAME:CET
DTSTART:20251026T010000
END:STANDARD
BEGIN:DAYLIGHT
TZOFFSETFROM:+0100
TZOFFSETTO:+0200
TZNAME:CEST
DTSTART:20260329T010000
END:DAYLIGHT
BEGIN:STANDARD
TZOFFSETFROM:+0200
TZOFFSETTO:+0100
TZNAME:CET
DTSTART:20261025T010000
END:STANDARD
BEGIN:DAYLIGHT
TZOFFSETFROM:+0100
TZOFFSETTO:+0200
TZNAME:CEST
DTSTART:20270328T010000
END:DAYLIGHT
BEGIN:STANDARD
TZOFFSETFROM:+0200
TZOFFSETTO:+0100
TZNAME:CET
DTSTART:20271031T010000
END:STANDARD
END:VTIMEZONE
BEGIN:VEVENT
DTSTART;TZID=Europe/Berlin:20261205T110000
DTEND;TZID=Europe/Berlin:20261205T130000
DTSTAMP:20260421T203231
CREATED:20260327T071721Z
LAST-MODIFIED:20260327T071721Z
UID:1923-1796468400-1796475600@hatopia.de
SUMMARY:Offenes Repair Café
DESCRIPTION:Jeden 1. Samstag im Monat von 11-13 Uhr im Nachhaltigkeitszentrum Hagen\, Bismarckstraße 27\, 58089 Hagen. \n\n\nHilfe zur Selbsthilfe \n\n\nBeratung\, Unterstützung bei Reparaturen von Computern\, IT Geräten\, Kleinelektrogeräten und Fahrrädern bei Kaffee. Das Angebot ist kostenlos\, im Anschluss darf aber gern an den Verein “Nachhaltigkeitszentrum Hagen e.V.” gespendet werden. \n\nNEU DABEI: Reparatur von Kleinelektrogeräten & Fahrradselbsthilfewerkstatt (kleinere Reparaturen wie Bremsen erneuern\, Platten reifen flicken)
URL:https://hatopia.de/event/offenes-repair-cafe-9/
END:VEVENT
BEGIN:VEVENT
DTSTART;TZID=Europe/Berlin:20261208T180000
DTEND;TZID=Europe/Berlin:20261208T200000
DTSTAMP:20260421T203231
CREATED:20260327T074219Z
LAST-MODIFIED:20260327T074219Z
UID:1938-1796752800-1796760000@hatopia.de
SUMMARY:Adventliche Schokologie
DESCRIPTION:Werkstatt rund um Schokolade \nDie Kampagne Sweet Revolution startet mit Beginn der Adventszeit und damit immer auch bundesweit weit über einhundert Aktionen rund um faire Schokolade. Fairtrade fordert mit der Sweet Revolution faires Einkommen für Kakaoproduzent*innen\, gerechte Arbeits- und Lebensbedingungen und Schluss mit ausbeuterischer Kinderarbeit. In Hagen laden Ingrid Klatte\, Umweltberaterin der Verbraucherzentrale\, und Claudia Eckhoff\, Regionalpromotorin des Eine Welt Netz NRW am AllerWeltHaus\, laden ein zur „Schokologie“ Dieser Abend ist ganz der Schokolade gewidmet. Es gibt zunächst erstaunliche Infos und dann ein Quiz zu Kakao und Schokolade und eine Verkostung ganz ungewöhnlicher Schoko-Sorten. Lebensmittelverschwendung und die Rettung von übrig gebliebenen Lebensmitteln ist ebenfalls Thema. Im praktischen Teil des Abends heißt es: Schürzen um! Schokoladige Köstlichkeiten werden hergestellt\, die bestimmt schneller wegschnabuliert sind\, als sie sich hübsch verpackt verschenken lassen. Aber macht nichts. Das lässt sich später alles leicht zuhause noch einmal zusammenzaubern. \nEine Veranstaltung im Rahmen von „Die Weltretter“\, „Sweet Revolution“ und „Nachhaltig lokal ernähren“ in Kooperation organisiert von AllerWeltHaus\, VHS\, Hagener Heimatbund\, Projekt Klimapositives Wehringhausen des Nachhaltigkeitszentrums Hagen und Verbraucherzentrale. \nOrt: Villa Post (Wehringhauser Str. 38\, 58089 Hagen) \nAnmeldung: Über die VHS.
URL:https://hatopia.de/event/adventliche-schokologie/
END:VEVENT
BEGIN:VEVENT
DTSTART;TZID=Europe/Berlin:20261212T130000
DTEND;TZID=Europe/Berlin:20261212T210000
DTSTAMP:20260421T203231
CREATED:20260302T115510Z
LAST-MODIFIED:20260302T115510Z
UID:1853-1797080400-1797109200@hatopia.de
SUMMARY:Alternativer Weihnachtsmarkt
DESCRIPTION:
URL:https://hatopia.de/event/alternativer-weihnachtsmarkt-2/
END:VEVENT
END:VCALENDAR