BEGIN:VCALENDAR
VERSION:2.0
PRODID:-//Hatopia - ECPv6.15.16//NONSGML v1.0//EN
CALSCALE:GREGORIAN
METHOD:PUBLISH
X-WR-CALNAME:Hatopia
X-ORIGINAL-URL:https://hatopia.de
X-WR-CALDESC:Veranstaltungen für Hatopia
REFRESH-INTERVAL;VALUE=DURATION:PT1H
X-Robots-Tag:noindex
X-PUBLISHED-TTL:PT1H
BEGIN:VTIMEZONE
TZID:Europe/Berlin
BEGIN:DAYLIGHT
TZOFFSETFROM:+0100
TZOFFSETTO:+0200
TZNAME:CEST
DTSTART:20250330T010000
END:DAYLIGHT
BEGIN:STANDARD
TZOFFSETFROM:+0200
TZOFFSETTO:+0100
TZNAME:CET
DTSTART:20251026T010000
END:STANDARD
BEGIN:DAYLIGHT
TZOFFSETFROM:+0100
TZOFFSETTO:+0200
TZNAME:CEST
DTSTART:20260329T010000
END:DAYLIGHT
BEGIN:STANDARD
TZOFFSETFROM:+0200
TZOFFSETTO:+0100
TZNAME:CET
DTSTART:20261025T010000
END:STANDARD
BEGIN:DAYLIGHT
TZOFFSETFROM:+0100
TZOFFSETTO:+0200
TZNAME:CEST
DTSTART:20270328T010000
END:DAYLIGHT
BEGIN:STANDARD
TZOFFSETFROM:+0200
TZOFFSETTO:+0100
TZNAME:CET
DTSTART:20271031T010000
END:STANDARD
END:VTIMEZONE
BEGIN:VEVENT
DTSTART;TZID=Europe/Berlin:20261005T153000
DTEND;TZID=Europe/Berlin:20261005T180000
DTSTAMP:20260421T174219
CREATED:20260302T110941Z
LAST-MODIFIED:20260302T110941Z
UID:1809-1791214200-1791223200@hatopia.de
SUMMARY:Erntedankfest am Bunker
DESCRIPTION:
URL:https://hatopia.de/event/erntedankfest-am-bunker/
END:VEVENT
BEGIN:VEVENT
DTSTART;TZID=Europe/Berlin:20261009T160000
DTEND;TZID=Europe/Berlin:20261009T173000
DTSTAMP:20260421T174219
CREATED:20260327T073427Z
LAST-MODIFIED:20260327T073427Z
UID:1934-1791561600-1791567000@hatopia.de
SUMMARY:Obst\, Gemüse\, Eier – Einkauf im Wandel
DESCRIPTION:Wehringhausentour – Wehringhausens Läden und Kneipen \nEnde des 19. Jahrhunderts gab es an fast jeder Straßenecke in Wehringhausen einen Laden und alle paar Meter eine Kneipe. Wie sieht es heute aus? Was ist den Bewohner:innen jetzt wichtig rund um ihre Ernährung und ihren Einkauf? Wie international und nachhaltig ist das Angebot? – Solchen Fragen geht der Stadtspaziergang mit Stadtheimatpfleger Michael Eckhoff nach.  \nTreffpunkt: WirrWarr (Langestraße 22\, 58089 Hagen) \nAnmeldung: Über die VHS \nEine Veranstaltung im Rahmen „Die Weltretter“ und „Nachhaltig lokal ernähren“ in Kooperation organisiert von AllerWeltHaus\, VHS\, Hagener Heimatbund\, Verbraucherzentrale\, Projekt Klimapositives Wehringhausen des Nachhaltigkeitszentrums Hagen.
URL:https://hatopia.de/event/obst-gemuese-eier-einkauf-im-wandel/
END:VEVENT
BEGIN:VEVENT
DTSTART;TZID=Europe/Berlin:20261010T110000
DTEND;TZID=Europe/Berlin:20261010T130000
DTSTAMP:20260421T174219
CREATED:20260327T071220Z
LAST-MODIFIED:20260327T071220Z
UID:1919-1791630000-1791637200@hatopia.de
SUMMARY:Offenes Repair Café
DESCRIPTION:Jeden 1. Samstag im Monat von 11-13 Uhr im Nachhaltigkeitszentrum Hagen\, Bismarckstraße 27\, 58089 Hagen. \n\n\nHilfe zur Selbsthilfe \n\n\nBeratung\, Unterstützung bei Reparaturen von Computern\, IT Geräten\, Kleinelektrogeräten und Fahrrädern bei Kaffee. Das Angebot ist kostenlos\, im Anschluss darf aber gern an den Verein “Nachhaltigkeitszentrum Hagen e.V.” gespendet werden. \n\nNEU DABEI: Reparatur von Kleinelektrogeräten & Fahrradselbsthilfewerkstatt (kleinere Reparaturen wie Bremsen erneuern\, Platten reifen flicken)
URL:https://hatopia.de/event/offenes-repair-cafe-7/
END:VEVENT
END:VCALENDAR