BEGIN:VCALENDAR
VERSION:2.0
PRODID:-//Hatopia - ECPv6.15.16//NONSGML v1.0//EN
CALSCALE:GREGORIAN
METHOD:PUBLISH
X-WR-CALNAME:Hatopia
X-ORIGINAL-URL:https://hatopia.de
X-WR-CALDESC:Veranstaltungen für Hatopia
REFRESH-INTERVAL;VALUE=DURATION:PT1H
X-Robots-Tag:noindex
X-PUBLISHED-TTL:PT1H
BEGIN:VTIMEZONE
TZID:Europe/Berlin
BEGIN:DAYLIGHT
TZOFFSETFROM:+0100
TZOFFSETTO:+0200
TZNAME:CEST
DTSTART:20250330T010000
END:DAYLIGHT
BEGIN:STANDARD
TZOFFSETFROM:+0200
TZOFFSETTO:+0100
TZNAME:CET
DTSTART:20251026T010000
END:STANDARD
BEGIN:DAYLIGHT
TZOFFSETFROM:+0100
TZOFFSETTO:+0200
TZNAME:CEST
DTSTART:20260329T010000
END:DAYLIGHT
BEGIN:STANDARD
TZOFFSETFROM:+0200
TZOFFSETTO:+0100
TZNAME:CET
DTSTART:20261025T010000
END:STANDARD
BEGIN:DAYLIGHT
TZOFFSETFROM:+0100
TZOFFSETTO:+0200
TZNAME:CEST
DTSTART:20270328T010000
END:DAYLIGHT
BEGIN:STANDARD
TZOFFSETFROM:+0200
TZOFFSETTO:+0100
TZNAME:CET
DTSTART:20271031T010000
END:STANDARD
END:VTIMEZONE
BEGIN:VEVENT
DTSTART;TZID=Europe/Berlin:20260905T110000
DTEND;TZID=Europe/Berlin:20260905T130000
DTSTAMP:20260421T160539
CREATED:20260327T071143Z
LAST-MODIFIED:20260327T071143Z
UID:1917-1788606000-1788613200@hatopia.de
SUMMARY:Offenes Repair Café
DESCRIPTION:Jeden 1. Samstag im Monat von 11-13 Uhr im Nachhaltigkeitszentrum Hagen\, Bismarckstraße 27\, 58089 Hagen. \n\n\nHilfe zur Selbsthilfe \n\n\nBeratung\, Unterstützung bei Reparaturen von Computern\, IT Geräten\, Kleinelektrogeräten und Fahrrädern bei Kaffee. Das Angebot ist kostenlos\, im Anschluss darf aber gern an den Verein “Nachhaltigkeitszentrum Hagen e.V.” gespendet werden. \n\nNEU DABEI: Reparatur von Kleinelektrogeräten & Fahrradselbsthilfewerkstatt (kleinere Reparaturen wie Bremsen erneuern\, Platten reifen flicken)
URL:https://hatopia.de/event/offenes-repair-cafe-6/
END:VEVENT
BEGIN:VEVENT
DTSTART;TZID=Europe/Berlin:20260907T153000
DTEND;TZID=Europe/Berlin:20260907T180000
DTSTAMP:20260421T160539
CREATED:20260302T110830Z
LAST-MODIFIED:20260302T110830Z
UID:1805-1788795000-1788804000@hatopia.de
SUMMARY:Gartentag am Bunker - Gemeinsames Gärtnern
DESCRIPTION:Ab März gärtnern wir wieder gemeinsam – jeden 2. Montag an der Grünen Oase am Bunker in Wehringhausen. \nAn den Gartentagen könnt ihr ab 15.30 Uhr jederzeit dazukommen – mit uns pflanzen\, pflegen\, gießen oder neue Elemente für die Fläche gestalten. Jede*r ist herzlich willkommen! \n💚 Das Angebot ist kostenlos. \nWo? Grünfläche an der Bachstraße 17\, 58089 Hagen Wehringhausen \n 
URL:https://hatopia.de/event/gartentag-am-bunker-gemeinsames-gaertnern-11/
END:VEVENT
BEGIN:VEVENT
DTSTART;TZID=Europe/Berlin:20260911T150000
DTEND;TZID=Europe/Berlin:20260911T180000
DTSTAMP:20260421T160539
CREATED:20260327T072432Z
LAST-MODIFIED:20260327T072432Z
UID:1928-1789138800-1789149600@hatopia.de
SUMMARY:Wildpflanzen-Erkundungsspaziergang im Hagener Stadtwald
DESCRIPTION:Nachhaltige Ernährung direkt aus der Natur \nLerne essbare Wildpflanzen der Saison kennen\, die du direkt aus der Fülle der Natur für eine nachhaltige Ernährung nutzen kannst. Kostenlose vitalstoffreiche Zutaten für eine Ernährung ohne lange Lieferketten\, ohne Verpackung und Müll! Mit zahlreichen Anwendungsmöglichkeiten und Rezeptideen.\n\nFreitag\, 11. September 2026 ab 15 Uhr (ca. 3 Std.)\nTreffpunkt: Wander-Parkplatz Pelmkestraße/ Deerthstraße im Stadtwald Hagen (unterhalb Eugen-Richter-Turmes und der Sternwarte)\nDozent: Thomas Spengler\, Coach für essbare Wildpflanzen
URL:https://hatopia.de/event/wildpflanzen-erkundungsspaziergang-im-hagener-stadtwald/
END:VEVENT
BEGIN:VEVENT
DTSTART;TZID=Europe/Berlin:20260921T153000
DTEND;TZID=Europe/Berlin:20260921T180000
DTSTAMP:20260421T160539
CREATED:20260302T110905Z
LAST-MODIFIED:20260302T110905Z
UID:1807-1790004600-1790013600@hatopia.de
SUMMARY:Gartentag am Bunker - Gemeinsamer Aufräumtag
DESCRIPTION:Ab März gärtnern wir wieder gemeinsam – jeden 2. Montag an der Grünen Oase am Bunker in Wehringhausen. \nAn den Gartentagen könnt ihr ab 15.30 Uhr jederzeit dazukommen – mit uns pflanzen\, pflegen\, gießen oder neue Elemente für die Fläche gestalten. Jede*r ist herzlich willkommen! \n💚 Das Angebot ist kostenlos. \nWo? Grünfläche an der Bachstraße 17\, 58089 Hagen Wehringhausen \n 
URL:https://hatopia.de/event/gartentag-am-bunker-gemeinsamer-aufraeumtag/
END:VEVENT
BEGIN:VEVENT
DTSTART;TZID=Europe/Berlin:20260925T080000
DTEND;TZID=Europe/Berlin:20260925T220000
DTSTAMP:20260421T160539
CREATED:20260327T072515Z
LAST-MODIFIED:20260327T072515Z
UID:1930-1790323200-1790373600@hatopia.de
SUMMARY:Sauberes Hagen - Müllsammelaktionstag in Wehringhausen
DESCRIPTION:
URL:https://hatopia.de/event/sauberes-hagen-muellsammelaktionstag-in-wehringhausen/
END:VEVENT
BEGIN:VEVENT
DTSTART;TZID=Europe/Berlin:20260929T180000
DTEND;TZID=Europe/Berlin:20260929T203000
DTSTAMP:20260421T160539
CREATED:20260327T073037Z
LAST-MODIFIED:20260327T073037Z
UID:1932-1790704800-1790713800@hatopia.de
SUMMARY:Der Apfelkuchen-Workshop
DESCRIPTION:Jährlich landen in der BRD 78 Kilogramm Lebensmittel pro Kopf im Müll aus unterschiedlichsten Gründen. Beim Workshop „Die Reise des Apfelkuchens“ erfährt man\, dass in jedem Apfel\, jedem Gramm Mehl und jedem Stück Butter viel mehr steckt\, als man denkt. Alle gehen nach Hause mit leckerem Apfelkuchen\, Tipps gegen Lebensmittelverschwendung und vielen neuen Erkenntnissen. \nEine Veranstaltung im Rahmen der Reihe „Nachhaltig lokal ernähren“ in Kooperation veranstaltet von VHS\, Hagener Heimatbund\, Projekt Klimapositives Wehringhausen des Nachhaltigkeitszentrums Hagen und Verbraucherzentrale. \nOrt: Villa Post (Wehringhauser Str. 38\, 58089 Hagen) \nAnmeldung: Über die VHS
URL:https://hatopia.de/event/der-apfelkuchen-workshop/
END:VEVENT
END:VCALENDAR