BEGIN:VCALENDAR
VERSION:2.0
PRODID:-//Hatopia - ECPv6.15.16//NONSGML v1.0//EN
CALSCALE:GREGORIAN
METHOD:PUBLISH
X-ORIGINAL-URL:https://hatopia.de
X-WR-CALDESC:Veranstaltungen für Hatopia
REFRESH-INTERVAL;VALUE=DURATION:PT1H
X-Robots-Tag:noindex
X-PUBLISHED-TTL:PT1H
BEGIN:VTIMEZONE
TZID:Europe/Berlin
BEGIN:DAYLIGHT
TZOFFSETFROM:+0100
TZOFFSETTO:+0200
TZNAME:CEST
DTSTART:20250330T010000
END:DAYLIGHT
BEGIN:STANDARD
TZOFFSETFROM:+0200
TZOFFSETTO:+0100
TZNAME:CET
DTSTART:20251026T010000
END:STANDARD
BEGIN:DAYLIGHT
TZOFFSETFROM:+0100
TZOFFSETTO:+0200
TZNAME:CEST
DTSTART:20260329T010000
END:DAYLIGHT
BEGIN:STANDARD
TZOFFSETFROM:+0200
TZOFFSETTO:+0100
TZNAME:CET
DTSTART:20261025T010000
END:STANDARD
BEGIN:DAYLIGHT
TZOFFSETFROM:+0100
TZOFFSETTO:+0200
TZNAME:CEST
DTSTART:20270328T010000
END:DAYLIGHT
BEGIN:STANDARD
TZOFFSETFROM:+0200
TZOFFSETTO:+0100
TZNAME:CET
DTSTART:20271031T010000
END:STANDARD
END:VTIMEZONE
BEGIN:VEVENT
DTSTART;TZID=Europe/Berlin:20260801T110000
DTEND;TZID=Europe/Berlin:20260801T130000
DTSTAMP:20260421T144718
CREATED:20260327T071112Z
LAST-MODIFIED:20260327T071112Z
UID:1915-1785582000-1785589200@hatopia.de
SUMMARY:Offenes Repair Café
DESCRIPTION:Jeden 1. Samstag im Monat von 11-13 Uhr im Nachhaltigkeitszentrum Hagen\, Bismarckstraße 27\, 58089 Hagen. \n\n\nHilfe zur Selbsthilfe \n\n\nBeratung\, Unterstützung bei Reparaturen von Computern\, IT Geräten\, Kleinelektrogeräten und Fahrrädern bei Kaffee. Das Angebot ist kostenlos\, im Anschluss darf aber gern an den Verein “Nachhaltigkeitszentrum Hagen e.V.” gespendet werden. \n\nNEU DABEI: Reparatur von Kleinelektrogeräten & Fahrradselbsthilfewerkstatt (kleinere Reparaturen wie Bremsen erneuern\, Platten reifen flicken)
URL:https://hatopia.de/event/offenes-repair-cafe-5/
END:VEVENT
BEGIN:VEVENT
DTSTART;TZID=Europe/Berlin:20260810T153000
DTEND;TZID=Europe/Berlin:20260810T180000
DTSTAMP:20260421T144718
CREATED:20260302T110730Z
LAST-MODIFIED:20260302T110730Z
UID:1801-1786375800-1786384800@hatopia.de
SUMMARY:Gartentag am Bunker - gemeinsames Gärtnern
DESCRIPTION:Ab März gärtnern wir wieder gemeinsam – jeden 2. Montag an der Grünen Oase am Bunker in Wehringhausen. \nAn den Gartentagen könnt ihr ab 15.30 Uhr jederzeit dazukommen – mit uns pflanzen\, pflegen\, gießen oder neue Elemente für die Fläche gestalten. Jede*r ist herzlich willkommen! \n💚 Das Angebot ist kostenlos. \nWo? Grünfläche an der Bachstraße 17\, 58089 Hagen Wehringhausen \n 
URL:https://hatopia.de/event/gartentag-am-bunker-gemeinsames-gaertnern-9/
END:VEVENT
BEGIN:VEVENT
DTSTART;TZID=Europe/Berlin:20260824T153000
DTEND;TZID=Europe/Berlin:20260824T180000
DTSTAMP:20260421T144718
CREATED:20260302T110759Z
LAST-MODIFIED:20260302T110759Z
UID:1803-1787585400-1787594400@hatopia.de
SUMMARY:Gartentag am Bunker - Gemeinsames Gärtnern
DESCRIPTION:Ab März gärtnern wir wieder gemeinsam – jeden 2. Montag an der Grünen Oase am Bunker in Wehringhausen. \nAn den Gartentagen könnt ihr ab 15.30 Uhr jederzeit dazukommen – mit uns pflanzen\, pflegen\, gießen oder neue Elemente für die Fläche gestalten. Jede*r ist herzlich willkommen! \n💚 Das Angebot ist kostenlos. \nWo? Grünfläche an der Bachstraße 17\, 58089 Hagen Wehringhausen \n 
URL:https://hatopia.de/event/gartentag-am-bunker-gemeinsames-gaertnern-10/
END:VEVENT
END:VCALENDAR