BEGIN:VCALENDAR
VERSION:2.0
PRODID:-//Hatopia - ECPv6.15.16//NONSGML v1.0//EN
CALSCALE:GREGORIAN
METHOD:PUBLISH
X-ORIGINAL-URL:https://hatopia.de
X-WR-CALDESC:Veranstaltungen für Hatopia
REFRESH-INTERVAL;VALUE=DURATION:PT1H
X-Robots-Tag:noindex
X-PUBLISHED-TTL:PT1H
BEGIN:VTIMEZONE
TZID:Europe/Berlin
BEGIN:DAYLIGHT
TZOFFSETFROM:+0100
TZOFFSETTO:+0200
TZNAME:CEST
DTSTART:20250330T010000
END:DAYLIGHT
BEGIN:STANDARD
TZOFFSETFROM:+0200
TZOFFSETTO:+0100
TZNAME:CET
DTSTART:20251026T010000
END:STANDARD
BEGIN:DAYLIGHT
TZOFFSETFROM:+0100
TZOFFSETTO:+0200
TZNAME:CEST
DTSTART:20260329T010000
END:DAYLIGHT
BEGIN:STANDARD
TZOFFSETFROM:+0200
TZOFFSETTO:+0100
TZNAME:CET
DTSTART:20261025T010000
END:STANDARD
BEGIN:DAYLIGHT
TZOFFSETFROM:+0100
TZOFFSETTO:+0200
TZNAME:CEST
DTSTART:20270328T010000
END:DAYLIGHT
BEGIN:STANDARD
TZOFFSETFROM:+0200
TZOFFSETTO:+0100
TZNAME:CET
DTSTART:20271031T010000
END:STANDARD
END:VTIMEZONE
BEGIN:VEVENT
DTSTART;TZID=Europe/Berlin:20260704T110000
DTEND;TZID=Europe/Berlin:20260704T130000
DTSTAMP:20260421T132411
CREATED:20260327T071030Z
LAST-MODIFIED:20260327T071030Z
UID:1913-1783162800-1783170000@hatopia.de
SUMMARY:Offenes Repair Café
DESCRIPTION:Jeden 1. Samstag im Monat von 11-13 Uhr im Nachhaltigkeitszentrum Hagen\, Bismarckstraße 27\, 58089 Hagen. \n\n\nHilfe zur Selbsthilfe \n\n\nBeratung\, Unterstützung bei Reparaturen von Computern\, IT Geräten\, Kleinelektrogeräten und Fahrrädern bei Kaffee. Das Angebot ist kostenlos\, im Anschluss darf aber gern an den Verein “Nachhaltigkeitszentrum Hagen e.V.” gespendet werden. \n\nNEU DABEI: Reparatur von Kleinelektrogeräten & Fahrradselbsthilfewerkstatt (kleinere Reparaturen wie Bremsen erneuern\, Platten reifen flicken)
URL:https://hatopia.de/event/offenes-repair-cafe-4/
END:VEVENT
BEGIN:VEVENT
DTSTART;TZID=Europe/Berlin:20260704T110000
DTEND;TZID=Europe/Berlin:20260704T180000
DTSTAMP:20260421T132411
CREATED:20260302T111525Z
LAST-MODIFIED:20260302T111525Z
UID:1823-1783162800-1783188000@hatopia.de
SUMMARY:Stadtteilfest "Wehringhausen öffne dich"
DESCRIPTION:
URL:https://hatopia.de/event/stadtteilfest-wehringhausen-oeffne-dich/
END:VEVENT
BEGIN:VEVENT
DTSTART;TZID=Europe/Berlin:20260711T150000
DTEND;TZID=Europe/Berlin:20260711T230000
DTSTAMP:20260421T132411
CREATED:20260327T072241Z
LAST-MODIFIED:20260327T072241Z
UID:1926-1783782000-1783810800@hatopia.de
SUMMARY:Vielfalt Tut Gut Festival
DESCRIPTION:Ihr findet uns am Samstag\, 11. Juli mit einem Stand beim Vielfalt Tut Gut Festival im Dr. Ferdinand-David-Park 🙂 Kommt vorbei!
URL:https://hatopia.de/event/vielfalt-tut-gut-festival/
END:VEVENT
BEGIN:VEVENT
DTSTART;TZID=Europe/Berlin:20260713T153000
DTEND;TZID=Europe/Berlin:20260713T180000
DTSTAMP:20260421T132411
CREATED:20260302T110628Z
LAST-MODIFIED:20260302T110628Z
UID:1797-1783956600-1783965600@hatopia.de
SUMMARY:Gartentag am Bunker - Gemeinsames Gärtnern
DESCRIPTION:Ab März gärtnern wir wieder gemeinsam – jeden 2. Montag an der Grünen Oase am Bunker in Wehringhausen. \nAn den Gartentagen könnt ihr ab 15.30 Uhr jederzeit dazukommen – mit uns pflanzen\, pflegen\, gießen oder neue Elemente für die Fläche gestalten. Jede*r ist herzlich willkommen! \n💚 Das Angebot ist kostenlos. \nWo? Grünfläche an der Bachstraße 17\, 58089 Hagen Wehringhausen \n 
URL:https://hatopia.de/event/gartentag-am-bunker-gemeinsames-gaertnern-7/
END:VEVENT
BEGIN:VEVENT
DTSTART;TZID=Europe/Berlin:20260716T183000
DTEND;TZID=Europe/Berlin:20260716T200000
DTSTAMP:20260421T132411
CREATED:20260302T112225Z
LAST-MODIFIED:20260327T123509Z
UID:1835-1784226600-1784232000@hatopia.de
SUMMARY:Nachhaltig Warm - "Kommunale Wärmeplanung Hagen" in der Villa Post
DESCRIPTION:Kommunale Wärmeplanung – Gemeinsam zur klimaschonenden Wärmeversorgung\nDie Abteilung „Untere Immissionsschutzbehörde und Umweltplanung” des Umweltamtes hat\, in Zusammenarbeit mit Akteuren der Stadt Hagen\, die Kommunale Wärmeplanung erarbeitet. Diese Rahmenplanung zeigt\, wie die aktuelle Versorgungssituation Hagens im Wärmesektor aussieht. Sie beschreibt auch die Potenziale und möglichen Szenarien für eine künftige\, klimaschonende Wärmeversorgung unserer Stadt. In diesem Vortrag wird der Wärmeplan erläutert und gezeigt\, welchen Nutzen er für die Hagener und Hagenerinnen hat. Sowohl jetzt als auch in Zukunft – denn die Wärmeplanung wird fortgeschrieben. \nReferenten Talha Sipahi und Lars Gehrke\, Stadt Hagen. \nOrt: Villa Post\, Wehringhauser Str. 38\, 58089 Hagen \nDie Teilnahme ist kostenlos. \nDie Veranstaltungsreihe „Nachhaltig warm – zukünftige Wärmeversorgung in Hagen“ wird vom Klimabündnis Hagen\, dem Hagener Forum Nachhaltigkeit\, HATOPIA/Nachhaltigkeitszentrum Hagen e.V. Projekt KLIMAPOSITIVES WEHRINGHAUSEN und der VHS organisiert.
URL:https://hatopia.de/event/nachhaltig-warm-kommunale-waermeplanung-hagen-in-der-villa-post/
END:VEVENT
BEGIN:VEVENT
DTSTART;TZID=Europe/Berlin:20260727T153000
DTEND;TZID=Europe/Berlin:20260727T180000
DTSTAMP:20260421T132411
CREATED:20260302T110659Z
LAST-MODIFIED:20260302T110659Z
UID:1799-1785166200-1785175200@hatopia.de
SUMMARY:Gartentag am Bunker - Gemeinsames Gärtnern
DESCRIPTION:Ab März gärtnern wir wieder gemeinsam – jeden 2. Montag an der Grünen Oase am Bunker in Wehringhausen. \nAn den Gartentagen könnt ihr ab 15.30 Uhr jederzeit dazukommen – mit uns pflanzen\, pflegen\, gießen oder neue Elemente für die Fläche gestalten. Jede*r ist herzlich willkommen! \n💚 Das Angebot ist kostenlos. \nWo? Grünfläche an der Bachstraße 17\, 58089 Hagen Wehringhausen \n 
URL:https://hatopia.de/event/gartentag-am-bunker-gemeinsames-gaertnern-8/
END:VEVENT
END:VCALENDAR