BEGIN:VCALENDAR
VERSION:2.0
PRODID:-//Hatopia - ECPv6.15.16//NONSGML v1.0//EN
CALSCALE:GREGORIAN
METHOD:PUBLISH
X-WR-CALNAME:Hatopia
X-ORIGINAL-URL:https://hatopia.de
X-WR-CALDESC:Veranstaltungen für Hatopia
REFRESH-INTERVAL;VALUE=DURATION:PT1H
X-Robots-Tag:noindex
X-PUBLISHED-TTL:PT1H
BEGIN:VTIMEZONE
TZID:Europe/Berlin
BEGIN:DAYLIGHT
TZOFFSETFROM:+0100
TZOFFSETTO:+0200
TZNAME:CEST
DTSTART:20250330T010000
END:DAYLIGHT
BEGIN:STANDARD
TZOFFSETFROM:+0200
TZOFFSETTO:+0100
TZNAME:CET
DTSTART:20251026T010000
END:STANDARD
BEGIN:DAYLIGHT
TZOFFSETFROM:+0100
TZOFFSETTO:+0200
TZNAME:CEST
DTSTART:20260329T010000
END:DAYLIGHT
BEGIN:STANDARD
TZOFFSETFROM:+0200
TZOFFSETTO:+0100
TZNAME:CET
DTSTART:20261025T010000
END:STANDARD
BEGIN:DAYLIGHT
TZOFFSETFROM:+0100
TZOFFSETTO:+0200
TZNAME:CEST
DTSTART:20270328T010000
END:DAYLIGHT
BEGIN:STANDARD
TZOFFSETFROM:+0200
TZOFFSETTO:+0100
TZNAME:CET
DTSTART:20271031T010000
END:STANDARD
END:VTIMEZONE
BEGIN:VEVENT
DTSTART;TZID=Europe/Berlin:20260502T110000
DTEND;TZID=Europe/Berlin:20260502T130000
DTSTAMP:20260421T103529
CREATED:20260327T070909Z
LAST-MODIFIED:20260327T070909Z
UID:1908-1777719600-1777726800@hatopia.de
SUMMARY:Offenes Repair Café
DESCRIPTION:Jeden 1. Samstag im Monat von 11-13 Uhr im Nachhaltigkeitszentrum Hagen\, Bismarckstraße 27\, 58089 Hagen. \n\n\nHilfe zur Selbsthilfe \n\n\nBeratung\, Unterstützung bei Reparaturen von Computern\, IT Geräten\, Kleinelektrogeräten und Fahrrädern bei Kaffee. Das Angebot ist kostenlos\, im Anschluss darf aber gern an den Verein “Nachhaltigkeitszentrum Hagen e.V.” gespendet werden. \n\nNEU DABEI: Reparatur von Kleinelektrogeräten & Fahrradselbsthilfewerkstatt (kleinere Reparaturen wie Bremsen erneuern\, Platten reifen flicken)
URL:https://hatopia.de/event/offenes-repair-cafe-2/
END:VEVENT
BEGIN:VEVENT
DTSTART;TZID=Europe/Berlin:20260506T170000
DTEND;TZID=Europe/Berlin:20260506T190000
DTSTAMP:20260421T103529
CREATED:20260302T111420Z
LAST-MODIFIED:20260302T111420Z
UID:1819-1778086800-1778094000@hatopia.de
SUMMARY:Treffen der Gruppe "Lifestyle & Kultur" im WirrWarr
DESCRIPTION:Die Gruppe Lifestyle & Kultur hat sich im Rahmen des Projekts Klimapositives Wehringhausen aus Ehrenamtlichen zusammen gefunden. Gemeinsam plant die Gruppe das nachhaltige Stadtteilfest „Wehringhausen öffne dich“\, welches am 4. Juli 2026 stattfinden soll. \nKomm gerne dazu\, plan mit uns und bring deine Ideen ein! \nDie Gruppe trifft sich jeden 1. Mittwoch um 17.00 Uhr im WirrWarr\, Lange Str. 22\, 58089 Hagen Wehringhausen.
URL:https://hatopia.de/event/treffen-der-gruppe-lifestyle-kultur-im-wirrwarr-3/
END:VEVENT
BEGIN:VEVENT
DTSTART;TZID=Europe/Berlin:20260511T153000
DTEND;TZID=Europe/Berlin:20260511T180000
DTSTAMP:20260421T103529
CREATED:20260302T110401Z
LAST-MODIFIED:20260302T110401Z
UID:1789-1778513400-1778522400@hatopia.de
SUMMARY:Gartentag am Bunker - Gemeinsames Gärtnern
DESCRIPTION:Ab März gärtnern wir wieder gemeinsam – jeden 2. Montag an der Grünen Oase am Bunker in Wehringhausen. \nAn den Gartentagen könnt ihr ab 15.30 Uhr jederzeit dazukommen – mit uns pflanzen\, pflegen\, gießen oder neue Elemente für die Fläche gestalten. Jede*r ist herzlich willkommen! \n💚 Das Angebot ist kostenlos. \nWo? Grünfläche an der Bachstraße 17\, 58089 Hagen Wehringhausen \n 
URL:https://hatopia.de/event/gartentag-am-bunker-gemeinsames-gaertnern-4/
END:VEVENT
BEGIN:VEVENT
DTSTART;TZID=Europe/Berlin:20260521T183000
DTEND;TZID=Europe/Berlin:20260521T200000
DTSTAMP:20260421T103529
CREATED:20260302T112102Z
LAST-MODIFIED:20260327T123626Z
UID:1831-1779388200-1779393600@hatopia.de
SUMMARY:Nachhaltig Warm - "Wärmepumpe live" in der Villa Post
DESCRIPTION:Wärmepumpe life – die Firma Rera stellt eine Showanlage im Betrieb vor\nAuf einem Showanhänger live vor Ort stellen das Team der Fa. Rera die Vorteile einer modernen Luft-Wasser Wärmepumpe vor und räumt mit den hartnäckigen Vorurteilen zu einer solchen Anlage auf. Die Anlage kann im Betrieb gesehen werden. Die Kollegen haben langjährige Erfahrungen auch mit großen Anlagen. Alle Fragen rund um das Thema werden fachkundig beantwortet werden können. \nReferenten Rene Rumi\, Micha Fürstenau und Team \nOrt: Villa Post\, Wehringhauser Str. 38\, 58089 Hagen \nDie Teilnahme ist kostenlos. \nDie Veranstaltungsreihe „Nachhaltig warm – zukünftige Wärmeversorgung in Hagen“ wird vom Klimabündnis Hagen\, dem Hagener Forum Nachhaltigkeit\, HATOPIA/Nachhaltigkeitszentrum Hagen e.V. Projekt KLIMAPOSITIVES WEHRINGHAUSEN und der VHS organisiert.
URL:https://hatopia.de/event/nachhaltig-warm-waermepumpe-live-in-der-villa-post/
END:VEVENT
END:VCALENDAR